BEGIN:VCALENDAR
VERSION:2.0
PRODID:-//Maison Magis - ECPv6.15.18//NONSGML v1.0//EN
CALSCALE:GREGORIAN
METHOD:PUBLISH
X-ORIGINAL-URL:https://www.maisonmagis.org
X-WR-CALDESC:Évènements pour Maison Magis
REFRESH-INTERVAL;VALUE=DURATION:PT1H
X-Robots-Tag:noindex
X-PUBLISHED-TTL:PT1H
BEGIN:VTIMEZONE
TZID:Europe/Paris
BEGIN:DAYLIGHT
TZOFFSETFROM:+0100
TZOFFSETTO:+0200
TZNAME:CEST
DTSTART:20240331T010000
END:DAYLIGHT
BEGIN:STANDARD
TZOFFSETFROM:+0200
TZOFFSETTO:+0100
TZNAME:CET
DTSTART:20241027T010000
END:STANDARD
BEGIN:DAYLIGHT
TZOFFSETFROM:+0100
TZOFFSETTO:+0200
TZNAME:CEST
DTSTART:20250330T010000
END:DAYLIGHT
BEGIN:STANDARD
TZOFFSETFROM:+0200
TZOFFSETTO:+0100
TZNAME:CET
DTSTART:20251026T010000
END:STANDARD
BEGIN:DAYLIGHT
TZOFFSETFROM:+0100
TZOFFSETTO:+0200
TZNAME:CEST
DTSTART:20260329T010000
END:DAYLIGHT
BEGIN:STANDARD
TZOFFSETFROM:+0200
TZOFFSETTO:+0100
TZNAME:CET
DTSTART:20261025T010000
END:STANDARD
END:VTIMEZONE
BEGIN:VEVENT
DTSTART;TZID=Europe/Paris:20251117T180000
DTEND;TZID=Europe/Paris:20251117T190000
DTSTAMP:20260421T104441
CREATED:20251010T150004Z
LAST-MODIFIED:20251015T131316Z
UID:10007596-1763402400-1763406000@www.maisonmagis.org
SUMMARY:Footing
DESCRIPTION:Rejoignez l’activité Footing\, tous les lundis soirs\, pour un temps de course dans une ambiance chaleureuse et conviviale ! \n\nLes activités de JRS Jeunes sont gratuites\, ouvertes à tous et sans engagement.
URL:https://www.maisonmagis.org/event/footing/2025-11-17/
LOCATION:A la Maison MAGIS\, 12 rue d'Assas\, Paris\, 75006\, France
CATEGORIES:JRS
ATTACH;FMTTYPE=image/jpeg:https://www.maisonmagis.org/wp-content/uploads/2025/10/Footing-JRS.jpg
GEO:48.8494805;2.3281856
X-APPLE-STRUCTURED-LOCATION;VALUE=URI;X-ADDRESS=A la Maison MAGIS 12 rue d'Assas Paris 75006 France;X-APPLE-RADIUS=500;X-TITLE=12 rue d'Assas:geo:2.3281856,48.8494805
END:VEVENT
BEGIN:VEVENT
DTSTART;VALUE=DATE:20251116
DTEND;VALUE=DATE:20251117
DTSTAMP:20260421T104441
CREATED:20251005T202929Z
LAST-MODIFIED:20251005T202929Z
UID:10007464-1763251200-1763337599@www.maisonmagis.org
SUMMARY:Randonnée Magis Paris x JRS
DESCRIPTION:Pour plus d’informations\, et pour s’inscrire\, rendez-vous sur la page dédiée.
URL:https://www.maisonmagis.org/event/randonnee-magis-paris-x-jrs-2/
ORGANIZER;CN="MAGIS Paris":MAILTO:magis.paris@maisonmagis.org
END:VEVENT
END:VCALENDAR