BEGIN:VCALENDAR
VERSION:2.0
PRODID:-//Maison Magis - ECPv6.15.18//NONSGML v1.0//EN
CALSCALE:GREGORIAN
METHOD:PUBLISH
X-ORIGINAL-URL:https://www.maisonmagis.org
X-WR-CALDESC:Évènements pour Maison Magis
REFRESH-INTERVAL;VALUE=DURATION:PT1H
X-Robots-Tag:noindex
X-PUBLISHED-TTL:PT1H
BEGIN:VTIMEZONE
TZID:Europe/Paris
BEGIN:DAYLIGHT
TZOFFSETFROM:+0100
TZOFFSETTO:+0200
TZNAME:CEST
DTSTART:20260329T010000
END:DAYLIGHT
BEGIN:STANDARD
TZOFFSETFROM:+0200
TZOFFSETTO:+0100
TZNAME:CET
DTSTART:20261025T010000
END:STANDARD
BEGIN:DAYLIGHT
TZOFFSETFROM:+0100
TZOFFSETTO:+0200
TZNAME:CEST
DTSTART:20270328T010000
END:DAYLIGHT
BEGIN:STANDARD
TZOFFSETFROM:+0200
TZOFFSETTO:+0100
TZNAME:CET
DTSTART:20271031T010000
END:STANDARD
BEGIN:DAYLIGHT
TZOFFSETFROM:+0100
TZOFFSETTO:+0200
TZNAME:CEST
DTSTART:20280326T010000
END:DAYLIGHT
BEGIN:STANDARD
TZOFFSETFROM:+0200
TZOFFSETTO:+0100
TZNAME:CET
DTSTART:20281029T010000
END:STANDARD
END:VTIMEZONE
BEGIN:VEVENT
DTSTART;TZID=Europe/Paris:20270125T180000
DTEND;TZID=Europe/Paris:20270125T190000
DTSTAMP:20260421T064407
CREATED:20251010T150004Z
LAST-MODIFIED:20251015T131316Z
UID:10007656-1800900000-1800903600@www.maisonmagis.org
SUMMARY:Footing
DESCRIPTION:Rejoignez l’activité Footing\, tous les lundis soirs\, pour un temps de course dans une ambiance chaleureuse et conviviale ! \n\nLes activités de JRS Jeunes sont gratuites\, ouvertes à tous et sans engagement.
URL:https://www.maisonmagis.org/event/footing/2027-01-25/
LOCATION:A la Maison MAGIS\, 12 rue d'Assas\, Paris\, 75006\, France
CATEGORIES:JRS
ATTACH;FMTTYPE=image/jpeg:https://www.maisonmagis.org/wp-content/uploads/2025/10/Footing-JRS.jpg
GEO:48.8494805;2.3281856
X-APPLE-STRUCTURED-LOCATION;VALUE=URI;X-ADDRESS=A la Maison MAGIS 12 rue d'Assas Paris 75006 France;X-APPLE-RADIUS=500;X-TITLE=12 rue d'Assas:geo:2.3281856,48.8494805
END:VEVENT
BEGIN:VEVENT
DTSTART;TZID=Europe/Paris:20270201T180000
DTEND;TZID=Europe/Paris:20270201T190000
DTSTAMP:20260421T064407
CREATED:20251010T150004Z
LAST-MODIFIED:20251015T131316Z
UID:10007657-1801504800-1801508400@www.maisonmagis.org
SUMMARY:Footing
DESCRIPTION:Rejoignez l’activité Footing\, tous les lundis soirs\, pour un temps de course dans une ambiance chaleureuse et conviviale ! \n\nLes activités de JRS Jeunes sont gratuites\, ouvertes à tous et sans engagement.
URL:https://www.maisonmagis.org/event/footing/2027-02-01/
LOCATION:A la Maison MAGIS\, 12 rue d'Assas\, Paris\, 75006\, France
CATEGORIES:JRS
ATTACH;FMTTYPE=image/jpeg:https://www.maisonmagis.org/wp-content/uploads/2025/10/Footing-JRS.jpg
GEO:48.8494805;2.3281856
X-APPLE-STRUCTURED-LOCATION;VALUE=URI;X-ADDRESS=A la Maison MAGIS 12 rue d'Assas Paris 75006 France;X-APPLE-RADIUS=500;X-TITLE=12 rue d'Assas:geo:2.3281856,48.8494805
END:VEVENT
BEGIN:VEVENT
DTSTART;TZID=Europe/Paris:20270208T180000
DTEND;TZID=Europe/Paris:20270208T190000
DTSTAMP:20260421T064407
CREATED:20251010T150004Z
LAST-MODIFIED:20251015T131316Z
UID:10007658-1802109600-1802113200@www.maisonmagis.org
SUMMARY:Footing
DESCRIPTION:Rejoignez l’activité Footing\, tous les lundis soirs\, pour un temps de course dans une ambiance chaleureuse et conviviale ! \n\nLes activités de JRS Jeunes sont gratuites\, ouvertes à tous et sans engagement.
URL:https://www.maisonmagis.org/event/footing/2027-02-08/
LOCATION:A la Maison MAGIS\, 12 rue d'Assas\, Paris\, 75006\, France
CATEGORIES:JRS
ATTACH;FMTTYPE=image/jpeg:https://www.maisonmagis.org/wp-content/uploads/2025/10/Footing-JRS.jpg
GEO:48.8494805;2.3281856
X-APPLE-STRUCTURED-LOCATION;VALUE=URI;X-ADDRESS=A la Maison MAGIS 12 rue d'Assas Paris 75006 France;X-APPLE-RADIUS=500;X-TITLE=12 rue d'Assas:geo:2.3281856,48.8494805
END:VEVENT
BEGIN:VEVENT
DTSTART;TZID=Europe/Paris:20270215T180000
DTEND;TZID=Europe/Paris:20270215T190000
DTSTAMP:20260421T064407
CREATED:20251010T150004Z
LAST-MODIFIED:20251015T131316Z
UID:10007659-1802714400-1802718000@www.maisonmagis.org
SUMMARY:Footing
DESCRIPTION:Rejoignez l’activité Footing\, tous les lundis soirs\, pour un temps de course dans une ambiance chaleureuse et conviviale ! \n\nLes activités de JRS Jeunes sont gratuites\, ouvertes à tous et sans engagement.
URL:https://www.maisonmagis.org/event/footing/2027-02-15/
LOCATION:A la Maison MAGIS\, 12 rue d'Assas\, Paris\, 75006\, France
CATEGORIES:JRS
ATTACH;FMTTYPE=image/jpeg:https://www.maisonmagis.org/wp-content/uploads/2025/10/Footing-JRS.jpg
GEO:48.8494805;2.3281856
X-APPLE-STRUCTURED-LOCATION;VALUE=URI;X-ADDRESS=A la Maison MAGIS 12 rue d'Assas Paris 75006 France;X-APPLE-RADIUS=500;X-TITLE=12 rue d'Assas:geo:2.3281856,48.8494805
END:VEVENT
BEGIN:VEVENT
DTSTART;TZID=Europe/Paris:20270222T180000
DTEND;TZID=Europe/Paris:20270222T190000
DTSTAMP:20260421T064407
CREATED:20251010T150004Z
LAST-MODIFIED:20251015T131316Z
UID:10007660-1803319200-1803322800@www.maisonmagis.org
SUMMARY:Footing
DESCRIPTION:Rejoignez l’activité Footing\, tous les lundis soirs\, pour un temps de course dans une ambiance chaleureuse et conviviale ! \n\nLes activités de JRS Jeunes sont gratuites\, ouvertes à tous et sans engagement.
URL:https://www.maisonmagis.org/event/footing/2027-02-22/
LOCATION:A la Maison MAGIS\, 12 rue d'Assas\, Paris\, 75006\, France
CATEGORIES:JRS
ATTACH;FMTTYPE=image/jpeg:https://www.maisonmagis.org/wp-content/uploads/2025/10/Footing-JRS.jpg
GEO:48.8494805;2.3281856
X-APPLE-STRUCTURED-LOCATION;VALUE=URI;X-ADDRESS=A la Maison MAGIS 12 rue d'Assas Paris 75006 France;X-APPLE-RADIUS=500;X-TITLE=12 rue d'Assas:geo:2.3281856,48.8494805
END:VEVENT
BEGIN:VEVENT
DTSTART;TZID=Europe/Paris:20270301T180000
DTEND;TZID=Europe/Paris:20270301T190000
DTSTAMP:20260421T064407
CREATED:20251010T150004Z
LAST-MODIFIED:20251015T131316Z
UID:10007661-1803924000-1803927600@www.maisonmagis.org
SUMMARY:Footing
DESCRIPTION:Rejoignez l’activité Footing\, tous les lundis soirs\, pour un temps de course dans une ambiance chaleureuse et conviviale ! \n\nLes activités de JRS Jeunes sont gratuites\, ouvertes à tous et sans engagement.
URL:https://www.maisonmagis.org/event/footing/2027-03-01/
LOCATION:A la Maison MAGIS\, 12 rue d'Assas\, Paris\, 75006\, France
CATEGORIES:JRS
ATTACH;FMTTYPE=image/jpeg:https://www.maisonmagis.org/wp-content/uploads/2025/10/Footing-JRS.jpg
GEO:48.8494805;2.3281856
X-APPLE-STRUCTURED-LOCATION;VALUE=URI;X-ADDRESS=A la Maison MAGIS 12 rue d'Assas Paris 75006 France;X-APPLE-RADIUS=500;X-TITLE=12 rue d'Assas:geo:2.3281856,48.8494805
END:VEVENT
BEGIN:VEVENT
DTSTART;TZID=Europe/Paris:20270308T180000
DTEND;TZID=Europe/Paris:20270308T190000
DTSTAMP:20260421T064407
CREATED:20251010T150004Z
LAST-MODIFIED:20251015T131316Z
UID:10007662-1804528800-1804532400@www.maisonmagis.org
SUMMARY:Footing
DESCRIPTION:Rejoignez l’activité Footing\, tous les lundis soirs\, pour un temps de course dans une ambiance chaleureuse et conviviale ! \n\nLes activités de JRS Jeunes sont gratuites\, ouvertes à tous et sans engagement.
URL:https://www.maisonmagis.org/event/footing/2027-03-08/
LOCATION:A la Maison MAGIS\, 12 rue d'Assas\, Paris\, 75006\, France
CATEGORIES:JRS
ATTACH;FMTTYPE=image/jpeg:https://www.maisonmagis.org/wp-content/uploads/2025/10/Footing-JRS.jpg
GEO:48.8494805;2.3281856
X-APPLE-STRUCTURED-LOCATION;VALUE=URI;X-ADDRESS=A la Maison MAGIS 12 rue d'Assas Paris 75006 France;X-APPLE-RADIUS=500;X-TITLE=12 rue d'Assas:geo:2.3281856,48.8494805
END:VEVENT
BEGIN:VEVENT
DTSTART;TZID=Europe/Paris:20270315T180000
DTEND;TZID=Europe/Paris:20270315T190000
DTSTAMP:20260421T064407
CREATED:20251010T150004Z
LAST-MODIFIED:20251015T131316Z
UID:10007663-1805133600-1805137200@www.maisonmagis.org
SUMMARY:Footing
DESCRIPTION:Rejoignez l’activité Footing\, tous les lundis soirs\, pour un temps de course dans une ambiance chaleureuse et conviviale ! \n\nLes activités de JRS Jeunes sont gratuites\, ouvertes à tous et sans engagement.
URL:https://www.maisonmagis.org/event/footing/2027-03-15/
LOCATION:A la Maison MAGIS\, 12 rue d'Assas\, Paris\, 75006\, France
CATEGORIES:JRS
ATTACH;FMTTYPE=image/jpeg:https://www.maisonmagis.org/wp-content/uploads/2025/10/Footing-JRS.jpg
GEO:48.8494805;2.3281856
X-APPLE-STRUCTURED-LOCATION;VALUE=URI;X-ADDRESS=A la Maison MAGIS 12 rue d'Assas Paris 75006 France;X-APPLE-RADIUS=500;X-TITLE=12 rue d'Assas:geo:2.3281856,48.8494805
END:VEVENT
BEGIN:VEVENT
DTSTART;TZID=Europe/Paris:20270322T180000
DTEND;TZID=Europe/Paris:20270322T190000
DTSTAMP:20260421T064407
CREATED:20251010T150004Z
LAST-MODIFIED:20251015T131316Z
UID:10007664-1805738400-1805742000@www.maisonmagis.org
SUMMARY:Footing
DESCRIPTION:Rejoignez l’activité Footing\, tous les lundis soirs\, pour un temps de course dans une ambiance chaleureuse et conviviale ! \n\nLes activités de JRS Jeunes sont gratuites\, ouvertes à tous et sans engagement.
URL:https://www.maisonmagis.org/event/footing/2027-03-22/
LOCATION:A la Maison MAGIS\, 12 rue d'Assas\, Paris\, 75006\, France
CATEGORIES:JRS
ATTACH;FMTTYPE=image/jpeg:https://www.maisonmagis.org/wp-content/uploads/2025/10/Footing-JRS.jpg
GEO:48.8494805;2.3281856
X-APPLE-STRUCTURED-LOCATION;VALUE=URI;X-ADDRESS=A la Maison MAGIS 12 rue d'Assas Paris 75006 France;X-APPLE-RADIUS=500;X-TITLE=12 rue d'Assas:geo:2.3281856,48.8494805
END:VEVENT
BEGIN:VEVENT
DTSTART;TZID=Europe/Paris:20270329T180000
DTEND;TZID=Europe/Paris:20270329T190000
DTSTAMP:20260421T064407
CREATED:20251010T150004Z
LAST-MODIFIED:20251015T131316Z
UID:10007665-1806343200-1806346800@www.maisonmagis.org
SUMMARY:Footing
DESCRIPTION:Rejoignez l’activité Footing\, tous les lundis soirs\, pour un temps de course dans une ambiance chaleureuse et conviviale ! \n\nLes activités de JRS Jeunes sont gratuites\, ouvertes à tous et sans engagement.
URL:https://www.maisonmagis.org/event/footing/2027-03-29/
LOCATION:A la Maison MAGIS\, 12 rue d'Assas\, Paris\, 75006\, France
CATEGORIES:JRS
ATTACH;FMTTYPE=image/jpeg:https://www.maisonmagis.org/wp-content/uploads/2025/10/Footing-JRS.jpg
GEO:48.8494805;2.3281856
X-APPLE-STRUCTURED-LOCATION;VALUE=URI;X-ADDRESS=A la Maison MAGIS 12 rue d'Assas Paris 75006 France;X-APPLE-RADIUS=500;X-TITLE=12 rue d'Assas:geo:2.3281856,48.8494805
END:VEVENT
BEGIN:VEVENT
DTSTART;TZID=Europe/Paris:20270405T180000
DTEND;TZID=Europe/Paris:20270405T190000
DTSTAMP:20260421T064407
CREATED:20251010T150004Z
LAST-MODIFIED:20251015T131316Z
UID:10007666-1806948000-1806951600@www.maisonmagis.org
SUMMARY:Footing
DESCRIPTION:Rejoignez l’activité Footing\, tous les lundis soirs\, pour un temps de course dans une ambiance chaleureuse et conviviale ! \n\nLes activités de JRS Jeunes sont gratuites\, ouvertes à tous et sans engagement.
URL:https://www.maisonmagis.org/event/footing/2027-04-05/
LOCATION:A la Maison MAGIS\, 12 rue d'Assas\, Paris\, 75006\, France
CATEGORIES:JRS
ATTACH;FMTTYPE=image/jpeg:https://www.maisonmagis.org/wp-content/uploads/2025/10/Footing-JRS.jpg
GEO:48.8494805;2.3281856
X-APPLE-STRUCTURED-LOCATION;VALUE=URI;X-ADDRESS=A la Maison MAGIS 12 rue d'Assas Paris 75006 France;X-APPLE-RADIUS=500;X-TITLE=12 rue d'Assas:geo:2.3281856,48.8494805
END:VEVENT
BEGIN:VEVENT
DTSTART;TZID=Europe/Paris:20270412T180000
DTEND;TZID=Europe/Paris:20270412T190000
DTSTAMP:20260421T064407
CREATED:20251010T150004Z
LAST-MODIFIED:20251015T131316Z
UID:10007667-1807552800-1807556400@www.maisonmagis.org
SUMMARY:Footing
DESCRIPTION:Rejoignez l’activité Footing\, tous les lundis soirs\, pour un temps de course dans une ambiance chaleureuse et conviviale ! \n\nLes activités de JRS Jeunes sont gratuites\, ouvertes à tous et sans engagement.
URL:https://www.maisonmagis.org/event/footing/2027-04-12/
LOCATION:A la Maison MAGIS\, 12 rue d'Assas\, Paris\, 75006\, France
CATEGORIES:JRS
ATTACH;FMTTYPE=image/jpeg:https://www.maisonmagis.org/wp-content/uploads/2025/10/Footing-JRS.jpg
GEO:48.8494805;2.3281856
X-APPLE-STRUCTURED-LOCATION;VALUE=URI;X-ADDRESS=A la Maison MAGIS 12 rue d'Assas Paris 75006 France;X-APPLE-RADIUS=500;X-TITLE=12 rue d'Assas:geo:2.3281856,48.8494805
END:VEVENT
BEGIN:VEVENT
DTSTART;TZID=Europe/Paris:20270419T180000
DTEND;TZID=Europe/Paris:20270419T190000
DTSTAMP:20260421T064407
CREATED:20251010T150004Z
LAST-MODIFIED:20251015T131316Z
UID:10007668-1808157600-1808161200@www.maisonmagis.org
SUMMARY:Footing
DESCRIPTION:Rejoignez l’activité Footing\, tous les lundis soirs\, pour un temps de course dans une ambiance chaleureuse et conviviale ! \n\nLes activités de JRS Jeunes sont gratuites\, ouvertes à tous et sans engagement.
URL:https://www.maisonmagis.org/event/footing/2027-04-19/
LOCATION:A la Maison MAGIS\, 12 rue d'Assas\, Paris\, 75006\, France
CATEGORIES:JRS
ATTACH;FMTTYPE=image/jpeg:https://www.maisonmagis.org/wp-content/uploads/2025/10/Footing-JRS.jpg
GEO:48.8494805;2.3281856
X-APPLE-STRUCTURED-LOCATION;VALUE=URI;X-ADDRESS=A la Maison MAGIS 12 rue d'Assas Paris 75006 France;X-APPLE-RADIUS=500;X-TITLE=12 rue d'Assas:geo:2.3281856,48.8494805
END:VEVENT
BEGIN:VEVENT
DTSTART;TZID=Europe/Paris:20270426T180000
DTEND;TZID=Europe/Paris:20270426T190000
DTSTAMP:20260421T064407
CREATED:20251010T150004Z
LAST-MODIFIED:20251015T131316Z
UID:10007669-1808762400-1808766000@www.maisonmagis.org
SUMMARY:Footing
DESCRIPTION:Rejoignez l’activité Footing\, tous les lundis soirs\, pour un temps de course dans une ambiance chaleureuse et conviviale ! \n\nLes activités de JRS Jeunes sont gratuites\, ouvertes à tous et sans engagement.
URL:https://www.maisonmagis.org/event/footing/2027-04-26/
LOCATION:A la Maison MAGIS\, 12 rue d'Assas\, Paris\, 75006\, France
CATEGORIES:JRS
ATTACH;FMTTYPE=image/jpeg:https://www.maisonmagis.org/wp-content/uploads/2025/10/Footing-JRS.jpg
GEO:48.8494805;2.3281856
X-APPLE-STRUCTURED-LOCATION;VALUE=URI;X-ADDRESS=A la Maison MAGIS 12 rue d'Assas Paris 75006 France;X-APPLE-RADIUS=500;X-TITLE=12 rue d'Assas:geo:2.3281856,48.8494805
END:VEVENT
BEGIN:VEVENT
DTSTART;TZID=Europe/Paris:20270503T180000
DTEND;TZID=Europe/Paris:20270503T190000
DTSTAMP:20260421T064407
CREATED:20251010T150004Z
LAST-MODIFIED:20251015T131316Z
UID:10007670-1809367200-1809370800@www.maisonmagis.org
SUMMARY:Footing
DESCRIPTION:Rejoignez l’activité Footing\, tous les lundis soirs\, pour un temps de course dans une ambiance chaleureuse et conviviale ! \n\nLes activités de JRS Jeunes sont gratuites\, ouvertes à tous et sans engagement.
URL:https://www.maisonmagis.org/event/footing/2027-05-03/
LOCATION:A la Maison MAGIS\, 12 rue d'Assas\, Paris\, 75006\, France
CATEGORIES:JRS
ATTACH;FMTTYPE=image/jpeg:https://www.maisonmagis.org/wp-content/uploads/2025/10/Footing-JRS.jpg
GEO:48.8494805;2.3281856
X-APPLE-STRUCTURED-LOCATION;VALUE=URI;X-ADDRESS=A la Maison MAGIS 12 rue d'Assas Paris 75006 France;X-APPLE-RADIUS=500;X-TITLE=12 rue d'Assas:geo:2.3281856,48.8494805
END:VEVENT
BEGIN:VEVENT
DTSTART;TZID=Europe/Paris:20270510T180000
DTEND;TZID=Europe/Paris:20270510T190000
DTSTAMP:20260421T064407
CREATED:20251010T150004Z
LAST-MODIFIED:20251015T131316Z
UID:10007671-1809972000-1809975600@www.maisonmagis.org
SUMMARY:Footing
DESCRIPTION:Rejoignez l’activité Footing\, tous les lundis soirs\, pour un temps de course dans une ambiance chaleureuse et conviviale ! \n\nLes activités de JRS Jeunes sont gratuites\, ouvertes à tous et sans engagement.
URL:https://www.maisonmagis.org/event/footing/2027-05-10/
LOCATION:A la Maison MAGIS\, 12 rue d'Assas\, Paris\, 75006\, France
CATEGORIES:JRS
ATTACH;FMTTYPE=image/jpeg:https://www.maisonmagis.org/wp-content/uploads/2025/10/Footing-JRS.jpg
GEO:48.8494805;2.3281856
X-APPLE-STRUCTURED-LOCATION;VALUE=URI;X-ADDRESS=A la Maison MAGIS 12 rue d'Assas Paris 75006 France;X-APPLE-RADIUS=500;X-TITLE=12 rue d'Assas:geo:2.3281856,48.8494805
END:VEVENT
BEGIN:VEVENT
DTSTART;TZID=Europe/Paris:20270517T180000
DTEND;TZID=Europe/Paris:20270517T190000
DTSTAMP:20260421T064407
CREATED:20251010T150004Z
LAST-MODIFIED:20251015T131316Z
UID:10007672-1810576800-1810580400@www.maisonmagis.org
SUMMARY:Footing
DESCRIPTION:Rejoignez l’activité Footing\, tous les lundis soirs\, pour un temps de course dans une ambiance chaleureuse et conviviale ! \n\nLes activités de JRS Jeunes sont gratuites\, ouvertes à tous et sans engagement.
URL:https://www.maisonmagis.org/event/footing/2027-05-17/
LOCATION:A la Maison MAGIS\, 12 rue d'Assas\, Paris\, 75006\, France
CATEGORIES:JRS
ATTACH;FMTTYPE=image/jpeg:https://www.maisonmagis.org/wp-content/uploads/2025/10/Footing-JRS.jpg
GEO:48.8494805;2.3281856
X-APPLE-STRUCTURED-LOCATION;VALUE=URI;X-ADDRESS=A la Maison MAGIS 12 rue d'Assas Paris 75006 France;X-APPLE-RADIUS=500;X-TITLE=12 rue d'Assas:geo:2.3281856,48.8494805
END:VEVENT
BEGIN:VEVENT
DTSTART;TZID=Europe/Paris:20270524T180000
DTEND;TZID=Europe/Paris:20270524T190000
DTSTAMP:20260421T064407
CREATED:20251010T150004Z
LAST-MODIFIED:20251015T131316Z
UID:10007673-1811181600-1811185200@www.maisonmagis.org
SUMMARY:Footing
DESCRIPTION:Rejoignez l’activité Footing\, tous les lundis soirs\, pour un temps de course dans une ambiance chaleureuse et conviviale ! \n\nLes activités de JRS Jeunes sont gratuites\, ouvertes à tous et sans engagement.
URL:https://www.maisonmagis.org/event/footing/2027-05-24/
LOCATION:A la Maison MAGIS\, 12 rue d'Assas\, Paris\, 75006\, France
CATEGORIES:JRS
ATTACH;FMTTYPE=image/jpeg:https://www.maisonmagis.org/wp-content/uploads/2025/10/Footing-JRS.jpg
GEO:48.8494805;2.3281856
X-APPLE-STRUCTURED-LOCATION;VALUE=URI;X-ADDRESS=A la Maison MAGIS 12 rue d'Assas Paris 75006 France;X-APPLE-RADIUS=500;X-TITLE=12 rue d'Assas:geo:2.3281856,48.8494805
END:VEVENT
BEGIN:VEVENT
DTSTART;TZID=Europe/Paris:20270531T180000
DTEND;TZID=Europe/Paris:20270531T190000
DTSTAMP:20260421T064407
CREATED:20251010T150004Z
LAST-MODIFIED:20251015T131316Z
UID:10007674-1811786400-1811790000@www.maisonmagis.org
SUMMARY:Footing
DESCRIPTION:Rejoignez l’activité Footing\, tous les lundis soirs\, pour un temps de course dans une ambiance chaleureuse et conviviale ! \n\nLes activités de JRS Jeunes sont gratuites\, ouvertes à tous et sans engagement.
URL:https://www.maisonmagis.org/event/footing/2027-05-31/
LOCATION:A la Maison MAGIS\, 12 rue d'Assas\, Paris\, 75006\, France
CATEGORIES:JRS
ATTACH;FMTTYPE=image/jpeg:https://www.maisonmagis.org/wp-content/uploads/2025/10/Footing-JRS.jpg
GEO:48.8494805;2.3281856
X-APPLE-STRUCTURED-LOCATION;VALUE=URI;X-ADDRESS=A la Maison MAGIS 12 rue d'Assas Paris 75006 France;X-APPLE-RADIUS=500;X-TITLE=12 rue d'Assas:geo:2.3281856,48.8494805
END:VEVENT
BEGIN:VEVENT
DTSTART;TZID=Europe/Paris:20270607T180000
DTEND;TZID=Europe/Paris:20270607T190000
DTSTAMP:20260421T064407
CREATED:20251010T150004Z
LAST-MODIFIED:20251015T131316Z
UID:10007675-1812391200-1812394800@www.maisonmagis.org
SUMMARY:Footing
DESCRIPTION:Rejoignez l’activité Footing\, tous les lundis soirs\, pour un temps de course dans une ambiance chaleureuse et conviviale ! \n\nLes activités de JRS Jeunes sont gratuites\, ouvertes à tous et sans engagement.
URL:https://www.maisonmagis.org/event/footing/2027-06-07/
LOCATION:A la Maison MAGIS\, 12 rue d'Assas\, Paris\, 75006\, France
CATEGORIES:JRS
ATTACH;FMTTYPE=image/jpeg:https://www.maisonmagis.org/wp-content/uploads/2025/10/Footing-JRS.jpg
GEO:48.8494805;2.3281856
X-APPLE-STRUCTURED-LOCATION;VALUE=URI;X-ADDRESS=A la Maison MAGIS 12 rue d'Assas Paris 75006 France;X-APPLE-RADIUS=500;X-TITLE=12 rue d'Assas:geo:2.3281856,48.8494805
END:VEVENT
BEGIN:VEVENT
DTSTART;TZID=Europe/Paris:20270614T180000
DTEND;TZID=Europe/Paris:20270614T190000
DTSTAMP:20260421T064407
CREATED:20251010T150004Z
LAST-MODIFIED:20251015T131316Z
UID:10007676-1812996000-1812999600@www.maisonmagis.org
SUMMARY:Footing
DESCRIPTION:Rejoignez l’activité Footing\, tous les lundis soirs\, pour un temps de course dans une ambiance chaleureuse et conviviale ! \n\nLes activités de JRS Jeunes sont gratuites\, ouvertes à tous et sans engagement.
URL:https://www.maisonmagis.org/event/footing/2027-06-14/
LOCATION:A la Maison MAGIS\, 12 rue d'Assas\, Paris\, 75006\, France
CATEGORIES:JRS
ATTACH;FMTTYPE=image/jpeg:https://www.maisonmagis.org/wp-content/uploads/2025/10/Footing-JRS.jpg
GEO:48.8494805;2.3281856
X-APPLE-STRUCTURED-LOCATION;VALUE=URI;X-ADDRESS=A la Maison MAGIS 12 rue d'Assas Paris 75006 France;X-APPLE-RADIUS=500;X-TITLE=12 rue d'Assas:geo:2.3281856,48.8494805
END:VEVENT
BEGIN:VEVENT
DTSTART;TZID=Europe/Paris:20270621T180000
DTEND;TZID=Europe/Paris:20270621T190000
DTSTAMP:20260421T064407
CREATED:20251010T150004Z
LAST-MODIFIED:20251015T131316Z
UID:10007677-1813600800-1813604400@www.maisonmagis.org
SUMMARY:Footing
DESCRIPTION:Rejoignez l’activité Footing\, tous les lundis soirs\, pour un temps de course dans une ambiance chaleureuse et conviviale ! \n\nLes activités de JRS Jeunes sont gratuites\, ouvertes à tous et sans engagement.
URL:https://www.maisonmagis.org/event/footing/2027-06-21/
LOCATION:A la Maison MAGIS\, 12 rue d'Assas\, Paris\, 75006\, France
CATEGORIES:JRS
ATTACH;FMTTYPE=image/jpeg:https://www.maisonmagis.org/wp-content/uploads/2025/10/Footing-JRS.jpg
GEO:48.8494805;2.3281856
X-APPLE-STRUCTURED-LOCATION;VALUE=URI;X-ADDRESS=A la Maison MAGIS 12 rue d'Assas Paris 75006 France;X-APPLE-RADIUS=500;X-TITLE=12 rue d'Assas:geo:2.3281856,48.8494805
END:VEVENT
BEGIN:VEVENT
DTSTART;TZID=Europe/Paris:20270628T180000
DTEND;TZID=Europe/Paris:20270628T190000
DTSTAMP:20260421T064407
CREATED:20251010T150004Z
LAST-MODIFIED:20251015T131316Z
UID:10007678-1814205600-1814209200@www.maisonmagis.org
SUMMARY:Footing
DESCRIPTION:Rejoignez l’activité Footing\, tous les lundis soirs\, pour un temps de course dans une ambiance chaleureuse et conviviale ! \n\nLes activités de JRS Jeunes sont gratuites\, ouvertes à tous et sans engagement.
URL:https://www.maisonmagis.org/event/footing/2027-06-28/
LOCATION:A la Maison MAGIS\, 12 rue d'Assas\, Paris\, 75006\, France
CATEGORIES:JRS
ATTACH;FMTTYPE=image/jpeg:https://www.maisonmagis.org/wp-content/uploads/2025/10/Footing-JRS.jpg
GEO:48.8494805;2.3281856
X-APPLE-STRUCTURED-LOCATION;VALUE=URI;X-ADDRESS=A la Maison MAGIS 12 rue d'Assas Paris 75006 France;X-APPLE-RADIUS=500;X-TITLE=12 rue d'Assas:geo:2.3281856,48.8494805
END:VEVENT
END:VCALENDAR