BEGIN:VCALENDAR
VERSION:2.0
PRODID:-//Maison Magis - ECPv6.15.18//NONSGML v1.0//EN
CALSCALE:GREGORIAN
METHOD:PUBLISH
X-ORIGINAL-URL:https://www.maisonmagis.org
X-WR-CALDESC:Évènements pour Maison Magis
REFRESH-INTERVAL;VALUE=DURATION:PT1H
X-Robots-Tag:noindex
X-PUBLISHED-TTL:PT1H
BEGIN:VTIMEZONE
TZID:Europe/Paris
BEGIN:DAYLIGHT
TZOFFSETFROM:+0100
TZOFFSETTO:+0200
TZNAME:CEST
DTSTART:20240331T010000
END:DAYLIGHT
BEGIN:STANDARD
TZOFFSETFROM:+0200
TZOFFSETTO:+0100
TZNAME:CET
DTSTART:20241027T010000
END:STANDARD
BEGIN:DAYLIGHT
TZOFFSETFROM:+0100
TZOFFSETTO:+0200
TZNAME:CEST
DTSTART:20250330T010000
END:DAYLIGHT
BEGIN:STANDARD
TZOFFSETFROM:+0200
TZOFFSETTO:+0100
TZNAME:CET
DTSTART:20251026T010000
END:STANDARD
BEGIN:DAYLIGHT
TZOFFSETFROM:+0100
TZOFFSETTO:+0200
TZNAME:CEST
DTSTART:20260329T010000
END:DAYLIGHT
BEGIN:STANDARD
TZOFFSETFROM:+0200
TZOFFSETTO:+0100
TZNAME:CET
DTSTART:20261025T010000
END:STANDARD
BEGIN:DAYLIGHT
TZOFFSETFROM:+0100
TZOFFSETTO:+0200
TZNAME:CEST
DTSTART:20270328T010000
END:DAYLIGHT
BEGIN:STANDARD
TZOFFSETFROM:+0200
TZOFFSETTO:+0100
TZNAME:CET
DTSTART:20271031T010000
END:STANDARD
END:VTIMEZONE
BEGIN:VEVENT
DTSTART;TZID=Europe/Paris:20260105T180000
DTEND;TZID=Europe/Paris:20260105T190000
DTSTAMP:20260421T064214
CREATED:20251010T150004Z
LAST-MODIFIED:20251015T131316Z
UID:10007601-1767636000-1767639600@www.maisonmagis.org
SUMMARY:Footing
DESCRIPTION:Rejoignez l’activité Footing\, tous les lundis soirs\, pour un temps de course dans une ambiance chaleureuse et conviviale ! \n\nLes activités de JRS Jeunes sont gratuites\, ouvertes à tous et sans engagement.
URL:https://www.maisonmagis.org/event/footing/2026-01-05/
LOCATION:A la Maison MAGIS\, 12 rue d'Assas\, Paris\, 75006\, France
CATEGORIES:JRS
ATTACH;FMTTYPE=image/jpeg:https://www.maisonmagis.org/wp-content/uploads/2025/10/Footing-JRS.jpg
GEO:48.8494805;2.3281856
X-APPLE-STRUCTURED-LOCATION;VALUE=URI;X-ADDRESS=A la Maison MAGIS 12 rue d'Assas Paris 75006 France;X-APPLE-RADIUS=500;X-TITLE=12 rue d'Assas:geo:2.3281856,48.8494805
END:VEVENT
BEGIN:VEVENT
DTSTART;TZID=Europe/Paris:20251219T123000
DTEND;TZID=Europe/Paris:20251219T140000
DTSTAMP:20260421T064214
CREATED:20241016T151557Z
LAST-MODIFIED:20251009T162314Z
UID:10004801-1766147400-1766152800@www.maisonmagis.org
SUMMARY:Conversation en français avec JRS
DESCRIPTION:Atelier de conversation en français. Tout le monde est bienvenue\, personnes parlant déjà bien français ou personne voulant progresser\, débutants ! \n\n\n\n\n\n\n\n\n\n\n\n\nLes activités de JRS Jeunes sont gratuites\, ouvertes à tous et sans engagement.\n\n 
URL:https://www.maisonmagis.org/event/conversation-en-francais-avec-jrs-4/2025-12-19/
LOCATION:A la Maison MAGIS\, 12 rue d'Assas\, Paris\, 75006\, France
CATEGORIES:JRS
ATTACH;FMTTYPE=image/png:https://www.maisonmagis.org/wp-content/uploads/2020/09/Format-site-internet17.png
GEO:48.8494805;2.3281856
X-APPLE-STRUCTURED-LOCATION;VALUE=URI;X-ADDRESS=A la Maison MAGIS 12 rue d'Assas Paris 75006 France;X-APPLE-RADIUS=500;X-TITLE=12 rue d'Assas:geo:2.3281856,48.8494805
END:VEVENT
BEGIN:VEVENT
DTSTART;TZID=Europe/Paris:20251217T120000
DTEND;TZID=Europe/Paris:20251217T130000
DTSTAMP:20260421T064214
CREATED:20251010T151839Z
LAST-MODIFIED:20251127T174120Z
UID:10007724-1765972800-1765976400@www.maisonmagis.org
SUMMARY:Renforcement musculaire
DESCRIPTION:Tous les mercredis\, rejoignez l’activité « Renforcement musculaire » proposée par JRS Jeunes à la Maison Magis ! \n\nLes activités de JRS Jeunes sont gratuites\, ouvertes à tous et sans engagement.
URL:https://www.maisonmagis.org/event/renforcement-musculaire/2025-12-17/
LOCATION:A la Maison MAGIS\, 12 rue d'Assas\, Paris\, 75006\, France
CATEGORIES:JRS
ATTACH;FMTTYPE=image/jpeg:https://www.maisonmagis.org/wp-content/uploads/2025/10/WhatsApp-Image-2025-11-27-a-18.33.33_b5cf1ae2.jpg
GEO:48.8494805;2.3281856
X-APPLE-STRUCTURED-LOCATION;VALUE=URI;X-ADDRESS=A la Maison MAGIS 12 rue d'Assas Paris 75006 France;X-APPLE-RADIUS=500;X-TITLE=12 rue d'Assas:geo:2.3281856,48.8494805
END:VEVENT
BEGIN:VEVENT
DTSTART;TZID=Europe/Paris:20251216T173000
DTEND;TZID=Europe/Paris:20251216T193000
DTSTAMP:20260421T064214
CREATED:20251010T151028Z
LAST-MODIFIED:20251127T173906Z
UID:10007688-1765906200-1765913400@www.maisonmagis.org
SUMMARY:Boxe
DESCRIPTION:JRS Jeunes vous propose une activité « BOXE »\, tous les mardis à la Maison Magis ! \nNous vous attendons avec dynamisme et bonne humeur ! \n\nLes activités de JRS Jeunes sont gratuites\, ouvertes à tous et sans engagement.
URL:https://www.maisonmagis.org/event/boxe/2025-12-16/
LOCATION:A la Maison MAGIS\, 12 rue d'Assas\, Paris\, 75006\, France
CATEGORIES:JRS
ATTACH;FMTTYPE=image/jpeg:https://www.maisonmagis.org/wp-content/uploads/2025/10/WhatsApp-Image-2025-11-27-a-18.33.33_b5cf1ae2.jpg
GEO:48.8494805;2.3281856
X-APPLE-STRUCTURED-LOCATION;VALUE=URI;X-ADDRESS=A la Maison MAGIS 12 rue d'Assas Paris 75006 France;X-APPLE-RADIUS=500;X-TITLE=12 rue d'Assas:geo:2.3281856,48.8494805
END:VEVENT
BEGIN:VEVENT
DTSTART;TZID=Europe/Paris:20251215T180000
DTEND;TZID=Europe/Paris:20251215T190000
DTSTAMP:20260421T064214
CREATED:20251010T150004Z
LAST-MODIFIED:20251015T131316Z
UID:10007600-1765821600-1765825200@www.maisonmagis.org
SUMMARY:Footing
DESCRIPTION:Rejoignez l’activité Footing\, tous les lundis soirs\, pour un temps de course dans une ambiance chaleureuse et conviviale ! \n\nLes activités de JRS Jeunes sont gratuites\, ouvertes à tous et sans engagement.
URL:https://www.maisonmagis.org/event/footing/2025-12-15/
LOCATION:A la Maison MAGIS\, 12 rue d'Assas\, Paris\, 75006\, France
CATEGORIES:JRS
ATTACH;FMTTYPE=image/jpeg:https://www.maisonmagis.org/wp-content/uploads/2025/10/Footing-JRS.jpg
GEO:48.8494805;2.3281856
X-APPLE-STRUCTURED-LOCATION;VALUE=URI;X-ADDRESS=A la Maison MAGIS 12 rue d'Assas Paris 75006 France;X-APPLE-RADIUS=500;X-TITLE=12 rue d'Assas:geo:2.3281856,48.8494805
END:VEVENT
BEGIN:VEVENT
DTSTART;TZID=Europe/Paris:20251212T123000
DTEND;TZID=Europe/Paris:20251212T140000
DTSTAMP:20260421T064214
CREATED:20241016T151557Z
LAST-MODIFIED:20251009T162314Z
UID:10004800-1765542600-1765548000@www.maisonmagis.org
SUMMARY:Conversation en français avec JRS
DESCRIPTION:Atelier de conversation en français. Tout le monde est bienvenue\, personnes parlant déjà bien français ou personne voulant progresser\, débutants ! \n\n\n\n\n\n\n\n\n\n\n\n\nLes activités de JRS Jeunes sont gratuites\, ouvertes à tous et sans engagement.\n\n 
URL:https://www.maisonmagis.org/event/conversation-en-francais-avec-jrs-4/2025-12-12/
LOCATION:A la Maison MAGIS\, 12 rue d'Assas\, Paris\, 75006\, France
CATEGORIES:JRS
ATTACH;FMTTYPE=image/png:https://www.maisonmagis.org/wp-content/uploads/2020/09/Format-site-internet17.png
GEO:48.8494805;2.3281856
X-APPLE-STRUCTURED-LOCATION;VALUE=URI;X-ADDRESS=A la Maison MAGIS 12 rue d'Assas Paris 75006 France;X-APPLE-RADIUS=500;X-TITLE=12 rue d'Assas:geo:2.3281856,48.8494805
END:VEVENT
BEGIN:VEVENT
DTSTART;TZID=Europe/Paris:20251210T120000
DTEND;TZID=Europe/Paris:20251210T130000
DTSTAMP:20260421T064214
CREATED:20251010T151839Z
LAST-MODIFIED:20251127T174120Z
UID:10007723-1765368000-1765371600@www.maisonmagis.org
SUMMARY:Renforcement musculaire
DESCRIPTION:Tous les mercredis\, rejoignez l’activité « Renforcement musculaire » proposée par JRS Jeunes à la Maison Magis ! \n\nLes activités de JRS Jeunes sont gratuites\, ouvertes à tous et sans engagement.
URL:https://www.maisonmagis.org/event/renforcement-musculaire/2025-12-10/
LOCATION:A la Maison MAGIS\, 12 rue d'Assas\, Paris\, 75006\, France
CATEGORIES:JRS
ATTACH;FMTTYPE=image/jpeg:https://www.maisonmagis.org/wp-content/uploads/2025/10/WhatsApp-Image-2025-11-27-a-18.33.33_b5cf1ae2.jpg
GEO:48.8494805;2.3281856
X-APPLE-STRUCTURED-LOCATION;VALUE=URI;X-ADDRESS=A la Maison MAGIS 12 rue d'Assas Paris 75006 France;X-APPLE-RADIUS=500;X-TITLE=12 rue d'Assas:geo:2.3281856,48.8494805
END:VEVENT
BEGIN:VEVENT
DTSTART;TZID=Europe/Paris:20251209T173000
DTEND;TZID=Europe/Paris:20251209T193000
DTSTAMP:20260421T064214
CREATED:20251010T151028Z
LAST-MODIFIED:20251127T173906Z
UID:10007687-1765301400-1765308600@www.maisonmagis.org
SUMMARY:Boxe
DESCRIPTION:JRS Jeunes vous propose une activité « BOXE »\, tous les mardis à la Maison Magis ! \nNous vous attendons avec dynamisme et bonne humeur ! \n\nLes activités de JRS Jeunes sont gratuites\, ouvertes à tous et sans engagement.
URL:https://www.maisonmagis.org/event/boxe/2025-12-09/
LOCATION:A la Maison MAGIS\, 12 rue d'Assas\, Paris\, 75006\, France
CATEGORIES:JRS
ATTACH;FMTTYPE=image/jpeg:https://www.maisonmagis.org/wp-content/uploads/2025/10/WhatsApp-Image-2025-11-27-a-18.33.33_b5cf1ae2.jpg
GEO:48.8494805;2.3281856
X-APPLE-STRUCTURED-LOCATION;VALUE=URI;X-ADDRESS=A la Maison MAGIS 12 rue d'Assas Paris 75006 France;X-APPLE-RADIUS=500;X-TITLE=12 rue d'Assas:geo:2.3281856,48.8494805
END:VEVENT
BEGIN:VEVENT
DTSTART;TZID=Europe/Paris:20251208T180000
DTEND;TZID=Europe/Paris:20251208T190000
DTSTAMP:20260421T064214
CREATED:20251010T150004Z
LAST-MODIFIED:20251015T131316Z
UID:10007599-1765216800-1765220400@www.maisonmagis.org
SUMMARY:Footing
DESCRIPTION:Rejoignez l’activité Footing\, tous les lundis soirs\, pour un temps de course dans une ambiance chaleureuse et conviviale ! \n\nLes activités de JRS Jeunes sont gratuites\, ouvertes à tous et sans engagement.
URL:https://www.maisonmagis.org/event/footing/2025-12-08/
LOCATION:A la Maison MAGIS\, 12 rue d'Assas\, Paris\, 75006\, France
CATEGORIES:JRS
ATTACH;FMTTYPE=image/jpeg:https://www.maisonmagis.org/wp-content/uploads/2025/10/Footing-JRS.jpg
GEO:48.8494805;2.3281856
X-APPLE-STRUCTURED-LOCATION;VALUE=URI;X-ADDRESS=A la Maison MAGIS 12 rue d'Assas Paris 75006 France;X-APPLE-RADIUS=500;X-TITLE=12 rue d'Assas:geo:2.3281856,48.8494805
END:VEVENT
BEGIN:VEVENT
DTSTART;TZID=Europe/Paris:20251205T123000
DTEND;TZID=Europe/Paris:20251205T140000
DTSTAMP:20260421T064214
CREATED:20241016T151557Z
LAST-MODIFIED:20251009T162314Z
UID:10004799-1764937800-1764943200@www.maisonmagis.org
SUMMARY:Conversation en français avec JRS
DESCRIPTION:Atelier de conversation en français. Tout le monde est bienvenue\, personnes parlant déjà bien français ou personne voulant progresser\, débutants ! \n\n\n\n\n\n\n\n\n\n\n\n\nLes activités de JRS Jeunes sont gratuites\, ouvertes à tous et sans engagement.\n\n 
URL:https://www.maisonmagis.org/event/conversation-en-francais-avec-jrs-4/2025-12-05/
LOCATION:A la Maison MAGIS\, 12 rue d'Assas\, Paris\, 75006\, France
CATEGORIES:JRS
ATTACH;FMTTYPE=image/png:https://www.maisonmagis.org/wp-content/uploads/2020/09/Format-site-internet17.png
GEO:48.8494805;2.3281856
X-APPLE-STRUCTURED-LOCATION;VALUE=URI;X-ADDRESS=A la Maison MAGIS 12 rue d'Assas Paris 75006 France;X-APPLE-RADIUS=500;X-TITLE=12 rue d'Assas:geo:2.3281856,48.8494805
END:VEVENT
BEGIN:VEVENT
DTSTART;TZID=Europe/Paris:20251203T120000
DTEND;TZID=Europe/Paris:20251203T130000
DTSTAMP:20260421T064214
CREATED:20251010T151839Z
LAST-MODIFIED:20251127T174120Z
UID:10007722-1764763200-1764766800@www.maisonmagis.org
SUMMARY:Renforcement musculaire
DESCRIPTION:Tous les mercredis\, rejoignez l’activité « Renforcement musculaire » proposée par JRS Jeunes à la Maison Magis ! \n\nLes activités de JRS Jeunes sont gratuites\, ouvertes à tous et sans engagement.
URL:https://www.maisonmagis.org/event/renforcement-musculaire/2025-12-03/
LOCATION:A la Maison MAGIS\, 12 rue d'Assas\, Paris\, 75006\, France
CATEGORIES:JRS
ATTACH;FMTTYPE=image/jpeg:https://www.maisonmagis.org/wp-content/uploads/2025/10/WhatsApp-Image-2025-11-27-a-18.33.33_b5cf1ae2.jpg
GEO:48.8494805;2.3281856
X-APPLE-STRUCTURED-LOCATION;VALUE=URI;X-ADDRESS=A la Maison MAGIS 12 rue d'Assas Paris 75006 France;X-APPLE-RADIUS=500;X-TITLE=12 rue d'Assas:geo:2.3281856,48.8494805
END:VEVENT
BEGIN:VEVENT
DTSTART;TZID=Europe/Paris:20251202T173000
DTEND;TZID=Europe/Paris:20251202T193000
DTSTAMP:20260421T064214
CREATED:20251010T151028Z
LAST-MODIFIED:20251127T173906Z
UID:10007686-1764696600-1764703800@www.maisonmagis.org
SUMMARY:Boxe
DESCRIPTION:JRS Jeunes vous propose une activité « BOXE »\, tous les mardis à la Maison Magis ! \nNous vous attendons avec dynamisme et bonne humeur ! \n\nLes activités de JRS Jeunes sont gratuites\, ouvertes à tous et sans engagement.
URL:https://www.maisonmagis.org/event/boxe/2025-12-02/
LOCATION:A la Maison MAGIS\, 12 rue d'Assas\, Paris\, 75006\, France
CATEGORIES:JRS
ATTACH;FMTTYPE=image/jpeg:https://www.maisonmagis.org/wp-content/uploads/2025/10/WhatsApp-Image-2025-11-27-a-18.33.33_b5cf1ae2.jpg
GEO:48.8494805;2.3281856
X-APPLE-STRUCTURED-LOCATION;VALUE=URI;X-ADDRESS=A la Maison MAGIS 12 rue d'Assas Paris 75006 France;X-APPLE-RADIUS=500;X-TITLE=12 rue d'Assas:geo:2.3281856,48.8494805
END:VEVENT
BEGIN:VEVENT
DTSTART;TZID=Europe/Paris:20251201T180000
DTEND;TZID=Europe/Paris:20251201T190000
DTSTAMP:20260421T064214
CREATED:20251010T150004Z
LAST-MODIFIED:20251015T131316Z
UID:10007598-1764612000-1764615600@www.maisonmagis.org
SUMMARY:Footing
DESCRIPTION:Rejoignez l’activité Footing\, tous les lundis soirs\, pour un temps de course dans une ambiance chaleureuse et conviviale ! \n\nLes activités de JRS Jeunes sont gratuites\, ouvertes à tous et sans engagement.
URL:https://www.maisonmagis.org/event/footing/2025-12-01/
LOCATION:A la Maison MAGIS\, 12 rue d'Assas\, Paris\, 75006\, France
CATEGORIES:JRS
ATTACH;FMTTYPE=image/jpeg:https://www.maisonmagis.org/wp-content/uploads/2025/10/Footing-JRS.jpg
GEO:48.8494805;2.3281856
X-APPLE-STRUCTURED-LOCATION;VALUE=URI;X-ADDRESS=A la Maison MAGIS 12 rue d'Assas Paris 75006 France;X-APPLE-RADIUS=500;X-TITLE=12 rue d'Assas:geo:2.3281856,48.8494805
END:VEVENT
BEGIN:VEVENT
DTSTART;TZID=Europe/Paris:20251128T123000
DTEND;TZID=Europe/Paris:20251128T140000
DTSTAMP:20260421T064214
CREATED:20241016T151557Z
LAST-MODIFIED:20251009T162314Z
UID:10004798-1764333000-1764338400@www.maisonmagis.org
SUMMARY:Conversation en français avec JRS
DESCRIPTION:Atelier de conversation en français. Tout le monde est bienvenue\, personnes parlant déjà bien français ou personne voulant progresser\, débutants ! \n\n\n\n\n\n\n\n\n\n\n\n\nLes activités de JRS Jeunes sont gratuites\, ouvertes à tous et sans engagement.\n\n 
URL:https://www.maisonmagis.org/event/conversation-en-francais-avec-jrs-4/2025-11-28/
LOCATION:A la Maison MAGIS\, 12 rue d'Assas\, Paris\, 75006\, France
CATEGORIES:JRS
ATTACH;FMTTYPE=image/png:https://www.maisonmagis.org/wp-content/uploads/2020/09/Format-site-internet17.png
GEO:48.8494805;2.3281856
X-APPLE-STRUCTURED-LOCATION;VALUE=URI;X-ADDRESS=A la Maison MAGIS 12 rue d'Assas Paris 75006 France;X-APPLE-RADIUS=500;X-TITLE=12 rue d'Assas:geo:2.3281856,48.8494805
END:VEVENT
BEGIN:VEVENT
DTSTART;TZID=Europe/Paris:20251126T120000
DTEND;TZID=Europe/Paris:20251126T130000
DTSTAMP:20260421T064214
CREATED:20251010T151839Z
LAST-MODIFIED:20251127T174120Z
UID:10007721-1764158400-1764162000@www.maisonmagis.org
SUMMARY:Renforcement musculaire
DESCRIPTION:Tous les mercredis\, rejoignez l’activité « Renforcement musculaire » proposée par JRS Jeunes à la Maison Magis ! \n\nLes activités de JRS Jeunes sont gratuites\, ouvertes à tous et sans engagement.
URL:https://www.maisonmagis.org/event/renforcement-musculaire/2025-11-26/
LOCATION:A la Maison MAGIS\, 12 rue d'Assas\, Paris\, 75006\, France
CATEGORIES:JRS
ATTACH;FMTTYPE=image/jpeg:https://www.maisonmagis.org/wp-content/uploads/2025/10/WhatsApp-Image-2025-11-27-a-18.33.33_b5cf1ae2.jpg
GEO:48.8494805;2.3281856
X-APPLE-STRUCTURED-LOCATION;VALUE=URI;X-ADDRESS=A la Maison MAGIS 12 rue d'Assas Paris 75006 France;X-APPLE-RADIUS=500;X-TITLE=12 rue d'Assas:geo:2.3281856,48.8494805
END:VEVENT
BEGIN:VEVENT
DTSTART;TZID=Europe/Paris:20251125T173000
DTEND;TZID=Europe/Paris:20251125T193000
DTSTAMP:20260421T064214
CREATED:20251010T151028Z
LAST-MODIFIED:20251127T173906Z
UID:10007685-1764091800-1764099000@www.maisonmagis.org
SUMMARY:Boxe
DESCRIPTION:JRS Jeunes vous propose une activité « BOXE »\, tous les mardis à la Maison Magis ! \nNous vous attendons avec dynamisme et bonne humeur ! \n\nLes activités de JRS Jeunes sont gratuites\, ouvertes à tous et sans engagement.
URL:https://www.maisonmagis.org/event/boxe/2025-11-25/
LOCATION:A la Maison MAGIS\, 12 rue d'Assas\, Paris\, 75006\, France
CATEGORIES:JRS
ATTACH;FMTTYPE=image/jpeg:https://www.maisonmagis.org/wp-content/uploads/2025/10/WhatsApp-Image-2025-11-27-a-18.33.33_b5cf1ae2.jpg
GEO:48.8494805;2.3281856
X-APPLE-STRUCTURED-LOCATION;VALUE=URI;X-ADDRESS=A la Maison MAGIS 12 rue d'Assas Paris 75006 France;X-APPLE-RADIUS=500;X-TITLE=12 rue d'Assas:geo:2.3281856,48.8494805
END:VEVENT
BEGIN:VEVENT
DTSTART;TZID=Europe/Paris:20251124T180000
DTEND;TZID=Europe/Paris:20251124T190000
DTSTAMP:20260421T064214
CREATED:20251010T150004Z
LAST-MODIFIED:20251015T131316Z
UID:10007597-1764007200-1764010800@www.maisonmagis.org
SUMMARY:Footing
DESCRIPTION:Rejoignez l’activité Footing\, tous les lundis soirs\, pour un temps de course dans une ambiance chaleureuse et conviviale ! \n\nLes activités de JRS Jeunes sont gratuites\, ouvertes à tous et sans engagement.
URL:https://www.maisonmagis.org/event/footing/2025-11-24/
LOCATION:A la Maison MAGIS\, 12 rue d'Assas\, Paris\, 75006\, France
CATEGORIES:JRS
ATTACH;FMTTYPE=image/jpeg:https://www.maisonmagis.org/wp-content/uploads/2025/10/Footing-JRS.jpg
GEO:48.8494805;2.3281856
X-APPLE-STRUCTURED-LOCATION;VALUE=URI;X-ADDRESS=A la Maison MAGIS 12 rue d'Assas Paris 75006 France;X-APPLE-RADIUS=500;X-TITLE=12 rue d'Assas:geo:2.3281856,48.8494805
END:VEVENT
BEGIN:VEVENT
DTSTART;TZID=Europe/Paris:20251121T123000
DTEND;TZID=Europe/Paris:20251121T140000
DTSTAMP:20260421T064214
CREATED:20241016T151557Z
LAST-MODIFIED:20251009T162314Z
UID:10004797-1763728200-1763733600@www.maisonmagis.org
SUMMARY:Conversation en français avec JRS
DESCRIPTION:Atelier de conversation en français. Tout le monde est bienvenue\, personnes parlant déjà bien français ou personne voulant progresser\, débutants ! \n\n\n\n\n\n\n\n\n\n\n\n\nLes activités de JRS Jeunes sont gratuites\, ouvertes à tous et sans engagement.\n\n 
URL:https://www.maisonmagis.org/event/conversation-en-francais-avec-jrs-4/2025-11-21/
LOCATION:A la Maison MAGIS\, 12 rue d'Assas\, Paris\, 75006\, France
CATEGORIES:JRS
ATTACH;FMTTYPE=image/png:https://www.maisonmagis.org/wp-content/uploads/2020/09/Format-site-internet17.png
GEO:48.8494805;2.3281856
X-APPLE-STRUCTURED-LOCATION;VALUE=URI;X-ADDRESS=A la Maison MAGIS 12 rue d'Assas Paris 75006 France;X-APPLE-RADIUS=500;X-TITLE=12 rue d'Assas:geo:2.3281856,48.8494805
END:VEVENT
BEGIN:VEVENT
DTSTART;TZID=Europe/Paris:20251119T120000
DTEND;TZID=Europe/Paris:20251119T130000
DTSTAMP:20260421T064214
CREATED:20251010T151839Z
LAST-MODIFIED:20251127T174120Z
UID:10007720-1763553600-1763557200@www.maisonmagis.org
SUMMARY:Renforcement musculaire
DESCRIPTION:Tous les mercredis\, rejoignez l’activité « Renforcement musculaire » proposée par JRS Jeunes à la Maison Magis ! \n\nLes activités de JRS Jeunes sont gratuites\, ouvertes à tous et sans engagement.
URL:https://www.maisonmagis.org/event/renforcement-musculaire/2025-11-19/
LOCATION:A la Maison MAGIS\, 12 rue d'Assas\, Paris\, 75006\, France
CATEGORIES:JRS
ATTACH;FMTTYPE=image/jpeg:https://www.maisonmagis.org/wp-content/uploads/2025/10/WhatsApp-Image-2025-11-27-a-18.33.33_b5cf1ae2.jpg
GEO:48.8494805;2.3281856
X-APPLE-STRUCTURED-LOCATION;VALUE=URI;X-ADDRESS=A la Maison MAGIS 12 rue d'Assas Paris 75006 France;X-APPLE-RADIUS=500;X-TITLE=12 rue d'Assas:geo:2.3281856,48.8494805
END:VEVENT
BEGIN:VEVENT
DTSTART;TZID=Europe/Paris:20251118T173000
DTEND;TZID=Europe/Paris:20251118T193000
DTSTAMP:20260421T064214
CREATED:20251010T151028Z
LAST-MODIFIED:20251127T173906Z
UID:10007684-1763487000-1763494200@www.maisonmagis.org
SUMMARY:Boxe
DESCRIPTION:JRS Jeunes vous propose une activité « BOXE »\, tous les mardis à la Maison Magis ! \nNous vous attendons avec dynamisme et bonne humeur ! \n\nLes activités de JRS Jeunes sont gratuites\, ouvertes à tous et sans engagement.
URL:https://www.maisonmagis.org/event/boxe/2025-11-18/
LOCATION:A la Maison MAGIS\, 12 rue d'Assas\, Paris\, 75006\, France
CATEGORIES:JRS
ATTACH;FMTTYPE=image/jpeg:https://www.maisonmagis.org/wp-content/uploads/2025/10/WhatsApp-Image-2025-11-27-a-18.33.33_b5cf1ae2.jpg
GEO:48.8494805;2.3281856
X-APPLE-STRUCTURED-LOCATION;VALUE=URI;X-ADDRESS=A la Maison MAGIS 12 rue d'Assas Paris 75006 France;X-APPLE-RADIUS=500;X-TITLE=12 rue d'Assas:geo:2.3281856,48.8494805
END:VEVENT
BEGIN:VEVENT
DTSTART;TZID=Europe/Paris:20251117T180000
DTEND;TZID=Europe/Paris:20251117T190000
DTSTAMP:20260421T064214
CREATED:20251010T150004Z
LAST-MODIFIED:20251015T131316Z
UID:10007596-1763402400-1763406000@www.maisonmagis.org
SUMMARY:Footing
DESCRIPTION:Rejoignez l’activité Footing\, tous les lundis soirs\, pour un temps de course dans une ambiance chaleureuse et conviviale ! \n\nLes activités de JRS Jeunes sont gratuites\, ouvertes à tous et sans engagement.
URL:https://www.maisonmagis.org/event/footing/2025-11-17/
LOCATION:A la Maison MAGIS\, 12 rue d'Assas\, Paris\, 75006\, France
CATEGORIES:JRS
ATTACH;FMTTYPE=image/jpeg:https://www.maisonmagis.org/wp-content/uploads/2025/10/Footing-JRS.jpg
GEO:48.8494805;2.3281856
X-APPLE-STRUCTURED-LOCATION;VALUE=URI;X-ADDRESS=A la Maison MAGIS 12 rue d'Assas Paris 75006 France;X-APPLE-RADIUS=500;X-TITLE=12 rue d'Assas:geo:2.3281856,48.8494805
END:VEVENT
BEGIN:VEVENT
DTSTART;VALUE=DATE:20251116
DTEND;VALUE=DATE:20251117
DTSTAMP:20260421T064214
CREATED:20251005T202929Z
LAST-MODIFIED:20251005T202929Z
UID:10007464-1763251200-1763337599@www.maisonmagis.org
SUMMARY:Randonnée Magis Paris x JRS
DESCRIPTION:Pour plus d’informations\, et pour s’inscrire\, rendez-vous sur la page dédiée.
URL:https://www.maisonmagis.org/event/randonnee-magis-paris-x-jrs-2/
ORGANIZER;CN="MAGIS Paris":MAILTO:magis.paris@maisonmagis.org
END:VEVENT
END:VCALENDAR